BEGIN:VCALENDAR
VERSION:2.0
PRODID:-//Charthouse Primary School - ECPv6.15.17.1//NONSGML v1.0//EN
CALSCALE:GREGORIAN
METHOD:PUBLISH
X-WR-CALNAME:Charthouse Primary School
X-ORIGINAL-URL:https://charthouseps.wa.edu.au
X-WR-CALDESC:Events for Charthouse Primary School
REFRESH-INTERVAL;VALUE=DURATION:PT1H
X-Robots-Tag:noindex
X-PUBLISHED-TTL:PT1H
BEGIN:VTIMEZONE
TZID:Australia/Perth
BEGIN:STANDARD
TZOFFSETFROM:+0800
TZOFFSETTO:+0800
TZNAME:AWST
DTSTART:20230101T000000
END:STANDARD
END:VTIMEZONE
BEGIN:VEVENT
DTSTART;VALUE=DATE:20240614
DTEND;VALUE=DATE:20240615
DTSTAMP:20260420T120121
CREATED:20240605T065536Z
LAST-MODIFIED:20240605T065635Z
UID:685-1718323200-1718409599@charthouseps.wa.edu.au
SUMMARY:Junior Assembly
DESCRIPTION:
URL:https://charthouseps.wa.edu.au/calendar/junior-assembly/
CATEGORIES:Assembly
END:VEVENT
BEGIN:VEVENT
DTSTART;VALUE=DATE:20240607
DTEND;VALUE=DATE:20240608
DTSTAMP:20260420T120121
CREATED:20240605T065246Z
LAST-MODIFIED:20240605T065246Z
UID:683-1717718400-1717804799@charthouseps.wa.edu.au
SUMMARY:Senior Assembly
DESCRIPTION:
URL:https://charthouseps.wa.edu.au/calendar/senior-assembly/
CATEGORIES:Assembly
END:VEVENT
BEGIN:VEVENT
DTSTART;VALUE=DATE:20240328
DTEND;VALUE=DATE:20240329
DTSTAMP:20260420T120121
CREATED:20240321T015306Z
LAST-MODIFIED:20240321T015306Z
UID:633-1711584000-1711670399@charthouseps.wa.edu.au
SUMMARY:End of Term 1
DESCRIPTION:
URL:https://charthouseps.wa.edu.au/calendar/end-of-term-1/
CATEGORIES:Term Dates
END:VEVENT
END:VCALENDAR