BEGIN:VCALENDAR
VERSION:2.0
PRODID:-//Charthouse Primary School - ECPv6.15.17.1//NONSGML v1.0//EN
CALSCALE:GREGORIAN
METHOD:PUBLISH
X-WR-CALNAME:Charthouse Primary School
X-ORIGINAL-URL:https://charthouseps.wa.edu.au
X-WR-CALDESC:Events for Charthouse Primary School
REFRESH-INTERVAL;VALUE=DURATION:PT1H
X-Robots-Tag:noindex
X-PUBLISHED-TTL:PT1H
BEGIN:VTIMEZONE
TZID:Australia/Perth
BEGIN:STANDARD
TZOFFSETFROM:+0800
TZOFFSETTO:+0800
TZNAME:AWST
DTSTART:20250101T000000
END:STANDARD
END:VTIMEZONE
BEGIN:VEVENT
DTSTART;VALUE=DATE:20260420
DTEND;VALUE=DATE:20260421
DTSTAMP:20260420T033933
CREATED:20251120T023758Z
LAST-MODIFIED:20251120T023758Z
UID:975-1776643200-1776729599@charthouseps.wa.edu.au
SUMMARY:School Development Day
DESCRIPTION:
URL:https://charthouseps.wa.edu.au/calendar/school-development-day/
CATEGORIES:Pupil Free Days
END:VEVENT
END:VCALENDAR