BEGIN:VCALENDAR
VERSION:2.0
PRODID:-//Charthouse Primary School - ECPv6.15.17.1//NONSGML v1.0//EN
CALSCALE:GREGORIAN
METHOD:PUBLISH
X-ORIGINAL-URL:https://charthouseps.wa.edu.au
X-WR-CALDESC:Events for Charthouse Primary School
REFRESH-INTERVAL;VALUE=DURATION:PT1H
X-Robots-Tag:noindex
X-PUBLISHED-TTL:PT1H
BEGIN:VTIMEZONE
TZID:Australia/Perth
BEGIN:STANDARD
TZOFFSETFROM:+0800
TZOFFSETTO:+0800
TZNAME:AWST
DTSTART:20230101T000000
END:STANDARD
END:VTIMEZONE
BEGIN:VEVENT
DTSTART;VALUE=DATE:20241115
DTEND;VALUE=DATE:20241116
DTSTAMP:20260421T183309
CREATED:20240729T051055Z
LAST-MODIFIED:20240729T051055Z
UID:761-1731628800-1731715199@charthouseps.wa.edu.au
SUMMARY:Whole School Assembly
DESCRIPTION:Rooms 1 and 2
URL:https://charthouseps.wa.edu.au/calendar/whole-school-assembly-4/
CATEGORIES:Assembly
END:VEVENT
BEGIN:VEVENT
DTSTART;VALUE=DATE:20241122
DTEND;VALUE=DATE:20241123
DTSTAMP:20260421T183309
CREATED:20240729T051203Z
LAST-MODIFIED:20240904T040141Z
UID:763-1732233600-1732319999@charthouseps.wa.edu.au
SUMMARY:Senior Assembly
DESCRIPTION:
URL:https://charthouseps.wa.edu.au/calendar/junior-assembly-7/
CATEGORIES:Assembly
END:VEVENT
BEGIN:VEVENT
DTSTART;VALUE=DATE:20241129
DTEND;VALUE=DATE:20241130
DTSTAMP:20260421T183309
CREATED:20240729T051341Z
LAST-MODIFIED:20240904T040635Z
UID:766-1732838400-1732924799@charthouseps.wa.edu.au
SUMMARY:Junior Assembly
DESCRIPTION:
URL:https://charthouseps.wa.edu.au/calendar/senior-assembly-8/
CATEGORIES:Assembly
END:VEVENT
BEGIN:VEVENT
DTSTART;VALUE=DATE:20241206
DTEND;VALUE=DATE:20241207
DTSTAMP:20260421T183309
CREATED:20240729T051533Z
LAST-MODIFIED:20240729T051533Z
UID:768-1733443200-1733529599@charthouseps.wa.edu.au
SUMMARY:Arch Awards Assembly
DESCRIPTION:Whole School
URL:https://charthouseps.wa.edu.au/calendar/arch-awards-assembly/
CATEGORIES:Assembly
END:VEVENT
END:VCALENDAR