BEGIN:VCALENDAR
VERSION:2.0
PRODID:-//Charthouse Primary School - ECPv6.15.17.1//NONSGML v1.0//EN
CALSCALE:GREGORIAN
METHOD:PUBLISH
X-WR-CALNAME:Charthouse Primary School
X-ORIGINAL-URL:https://charthouseps.wa.edu.au
X-WR-CALDESC:Events for Charthouse Primary School
REFRESH-INTERVAL;VALUE=DURATION:PT1H
X-Robots-Tag:noindex
X-PUBLISHED-TTL:PT1H
BEGIN:VTIMEZONE
TZID:Australia/Perth
BEGIN:STANDARD
TZOFFSETFROM:+0800
TZOFFSETTO:+0800
TZNAME:AWST
DTSTART:20240101T000000
END:STANDARD
END:VTIMEZONE
BEGIN:VEVENT
DTSTART;VALUE=DATE:20250929
DTEND;VALUE=DATE:20250930
DTSTAMP:20260420T183434
CREATED:20241104T024825Z
LAST-MODIFIED:20241104T024825Z
UID:870-1759104000-1759190399@charthouseps.wa.edu.au
SUMMARY:King's Birthday Public Holiday
DESCRIPTION:
URL:https://charthouseps.wa.edu.au/calendar/kings-birthday-public-holiday-2/
CATEGORIES:Public Holidays
END:VEVENT
END:VCALENDAR