BEGIN:VCALENDAR
VERSION:2.0
PRODID:-//Charthouse Primary School - ECPv6.15.17.1//NONSGML v1.0//EN
CALSCALE:GREGORIAN
METHOD:PUBLISH
X-ORIGINAL-URL:https://charthouseps.wa.edu.au
X-WR-CALDESC:Events for Charthouse Primary School
REFRESH-INTERVAL;VALUE=DURATION:PT1H
X-Robots-Tag:noindex
X-PUBLISHED-TTL:PT1H
BEGIN:VTIMEZONE
TZID:Australia/Perth
BEGIN:STANDARD
TZOFFSETFROM:+0800
TZOFFSETTO:+0800
TZNAME:AWST
DTSTART:20240101T000000
END:STANDARD
END:VTIMEZONE
BEGIN:VEVENT
DTSTART;VALUE=DATE:20250421
DTEND;VALUE=DATE:20250422
DTSTAMP:20260421T092126
CREATED:20241104T025346Z
LAST-MODIFIED:20241104T025346Z
UID:878-1745193600-1745279999@charthouseps.wa.edu.au
SUMMARY:Easter Monday Public Holiday
DESCRIPTION:
URL:https://charthouseps.wa.edu.au/calendar/easter-monday-public-holiday/
CATEGORIES:Public Holidays
END:VEVENT
END:VCALENDAR