BEGIN:VCALENDAR
VERSION:2.0
PRODID:-//Charthouse Primary School - ECPv6.15.17.1//NONSGML v1.0//EN
CALSCALE:GREGORIAN
METHOD:PUBLISH
X-WR-CALNAME:Charthouse Primary School
X-ORIGINAL-URL:https://charthouseps.wa.edu.au
X-WR-CALDESC:Events for Charthouse Primary School
REFRESH-INTERVAL;VALUE=DURATION:PT1H
X-Robots-Tag:noindex
X-PUBLISHED-TTL:PT1H
BEGIN:VTIMEZONE
TZID:Australia/Perth
BEGIN:STANDARD
TZOFFSETFROM:+0800
TZOFFSETTO:+0800
TZNAME:AWST
DTSTART:20230101T000000
END:STANDARD
END:VTIMEZONE
BEGIN:VEVENT
DTSTART;VALUE=DATE:20241209
DTEND;VALUE=DATE:20241210
DTSTAMP:20260421T195500
CREATED:20240904T042346Z
LAST-MODIFIED:20240904T042346Z
UID:827-1733702400-1733788799@charthouseps.wa.edu.au
SUMMARY:Year 6 Laser Tag
DESCRIPTION:
URL:https://charthouseps.wa.edu.au/calendar/year-6-laser-tag/
CATEGORIES:School Events
END:VEVENT
BEGIN:VEVENT
DTSTART;VALUE=DATE:20241209
DTEND;VALUE=DATE:20241210
DTSTAMP:20260421T195500
CREATED:20240904T042851Z
LAST-MODIFIED:20240904T042851Z
UID:829-1733702400-1733788799@charthouseps.wa.edu.au
SUMMARY:Year 5 Survivor
DESCRIPTION:
URL:https://charthouseps.wa.edu.au/calendar/year-5-survivor/
CATEGORIES:School Events
END:VEVENT
END:VCALENDAR