BEGIN:VCALENDAR
VERSION:2.0
PRODID:-//Charthouse Primary School - ECPv6.15.17.1//NONSGML v1.0//EN
CALSCALE:GREGORIAN
METHOD:PUBLISH
X-WR-CALNAME:Charthouse Primary School
X-ORIGINAL-URL:https://charthouseps.wa.edu.au
X-WR-CALDESC:Events for Charthouse Primary School
REFRESH-INTERVAL;VALUE=DURATION:PT1H
X-Robots-Tag:noindex
X-PUBLISHED-TTL:PT1H
BEGIN:VTIMEZONE
TZID:Australia/Perth
BEGIN:STANDARD
TZOFFSETFROM:+0800
TZOFFSETTO:+0800
TZNAME:AWST
DTSTART:20230101T000000
END:STANDARD
END:VTIMEZONE
BEGIN:VEVENT
DTSTART;VALUE=DATE:20241206
DTEND;VALUE=DATE:20241207
DTSTAMP:20260421T195408
CREATED:20240729T051533Z
LAST-MODIFIED:20240729T051533Z
UID:768-1733443200-1733529599@charthouseps.wa.edu.au
SUMMARY:Arch Awards Assembly
DESCRIPTION:Whole School
URL:https://charthouseps.wa.edu.au/calendar/arch-awards-assembly/
CATEGORIES:Assembly
END:VEVENT
END:VCALENDAR